BEGIN:VCALENDAR
VERSION:2.0
PRODID:-//FF INZERSDORF - ECPv6.15.16//NONSGML v1.0//EN
CALSCALE:GREGORIAN
METHOD:PUBLISH
X-WR-CALNAME:FF INZERSDORF
X-ORIGINAL-URL:https://www.ff-inzersdorf.at
X-WR-CALDESC:Veranstaltungen für FF INZERSDORF
REFRESH-INTERVAL;VALUE=DURATION:PT1H
X-Robots-Tag:noindex
X-PUBLISHED-TTL:PT1H
BEGIN:VTIMEZONE
TZID:Europe/Vienna
BEGIN:DAYLIGHT
TZOFFSETFROM:+0100
TZOFFSETTO:+0200
TZNAME:CEST
DTSTART:20180325T010000
END:DAYLIGHT
BEGIN:STANDARD
TZOFFSETFROM:+0200
TZOFFSETTO:+0100
TZNAME:CET
DTSTART:20181028T010000
END:STANDARD
BEGIN:DAYLIGHT
TZOFFSETFROM:+0100
TZOFFSETTO:+0200
TZNAME:CEST
DTSTART:20190331T010000
END:DAYLIGHT
BEGIN:STANDARD
TZOFFSETFROM:+0200
TZOFFSETTO:+0100
TZNAME:CET
DTSTART:20191027T010000
END:STANDARD
BEGIN:DAYLIGHT
TZOFFSETFROM:+0100
TZOFFSETTO:+0200
TZNAME:CEST
DTSTART:20200329T010000
END:DAYLIGHT
BEGIN:STANDARD
TZOFFSETFROM:+0200
TZOFFSETTO:+0100
TZNAME:CET
DTSTART:20201025T010000
END:STANDARD
BEGIN:DAYLIGHT
TZOFFSETFROM:+0100
TZOFFSETTO:+0200
TZNAME:CEST
DTSTART:20210328T010000
END:DAYLIGHT
BEGIN:STANDARD
TZOFFSETFROM:+0200
TZOFFSETTO:+0100
TZNAME:CET
DTSTART:20211031T010000
END:STANDARD
BEGIN:DAYLIGHT
TZOFFSETFROM:+0100
TZOFFSETTO:+0200
TZNAME:CEST
DTSTART:20220327T010000
END:DAYLIGHT
BEGIN:STANDARD
TZOFFSETFROM:+0200
TZOFFSETTO:+0100
TZNAME:CET
DTSTART:20221030T010000
END:STANDARD
BEGIN:DAYLIGHT
TZOFFSETFROM:+0100
TZOFFSETTO:+0200
TZNAME:CEST
DTSTART:20230326T010000
END:DAYLIGHT
BEGIN:STANDARD
TZOFFSETFROM:+0200
TZOFFSETTO:+0100
TZNAME:CET
DTSTART:20231029T010000
END:STANDARD
BEGIN:DAYLIGHT
TZOFFSETFROM:+0100
TZOFFSETTO:+0200
TZNAME:CEST
DTSTART:20240331T010000
END:DAYLIGHT
BEGIN:STANDARD
TZOFFSETFROM:+0200
TZOFFSETTO:+0100
TZNAME:CET
DTSTART:20241027T010000
END:STANDARD
BEGIN:DAYLIGHT
TZOFFSETFROM:+0100
TZOFFSETTO:+0200
TZNAME:CEST
DTSTART:20250330T010000
END:DAYLIGHT
BEGIN:STANDARD
TZOFFSETFROM:+0200
TZOFFSETTO:+0100
TZNAME:CET
DTSTART:20251026T010000
END:STANDARD
END:VTIMEZONE
BEGIN:VEVENT
DTSTART;TZID=Europe/Vienna:20240127T190000
DTEND;TZID=Europe/Vienna:20240128T040000
DTSTAMP:20260424T140617
CREATED:20231224T214402Z
LAST-MODIFIED:20231224T214402Z
UID:18500-1706382000-1706414400@www.ff-inzersdorf.at
SUMMARY:Feuerwehrball 2024
DESCRIPTION:>>> Tischreservierungen ab 20.01.2023 unter 0676/5146053 <<<\nSaaleinlass: 19:00 Uhr\nBegin: 20:30 Uhr\nMusik: Just Dance – Dancemusik und Entertainment\nCatering: K&K Anzenberg\nEintrittskarte-Vorverkauf: 8€ (Abendkasse: 12€)\n\nBar\, Cocktailbar\, Juxbasar/Versteigerung\, Schätzspiel\,…\n\nAuf Euer kommen freuen sich die Kameradinnen und Kameraden der FF Inzersdorf!\n\n				Auf Facebook teilen (Wird in neuem Fenster geöffnet)\n				Facebook\n			\n				Auf X teilen (Wird in neuem Fenster geöffnet)\n				X\n			\n				Auf WhatsApp teilen (Wird in neuem Fenster geöffnet)\n				WhatsApp\n			\n				Einen Link per E-Mail an einen Freund senden (Wird in neuem Fenster geöffnet)\n				E-Mail\n			\n				Drucken (Wird in neuem Fenster geöffnet)\n				Drucken
URL:https://www.ff-inzersdorf.at/veranstaltungen/feuerwehrball-2024/
LOCATION:Mehrzweckhalle Inzersdorf\, Mehrzweckhalle Inzersdorf\, Dorfstraße 20\, Inzersdorf ob der Traisen\, Niederösterreich\, 3131\, Österreich
CATEGORIES:Ball
END:VEVENT
BEGIN:VEVENT
DTSTART;TZID=Europe/Vienna:20230609T180000
DTEND;TZID=Europe/Vienna:20230609T203000
DTSTAMP:20260424T140617
CREATED:20230423T193206Z
LAST-MODIFIED:20230423T193206Z
UID:17967-1686333600-1686342600@www.ff-inzersdorf.at
SUMMARY:8. Traisentalcup
DESCRIPTION:Der Flyer als Download: TraisentalcupFolder_2023 \n  \n\n				Auf Facebook teilen (Wird in neuem Fenster geöffnet)\n				Facebook\n			\n				Auf X teilen (Wird in neuem Fenster geöffnet)\n				X\n			\n				Auf WhatsApp teilen (Wird in neuem Fenster geöffnet)\n				WhatsApp\n			\n				Einen Link per E-Mail an einen Freund senden (Wird in neuem Fenster geöffnet)\n				E-Mail\n			\n				Drucken (Wird in neuem Fenster geöffnet)\n				Drucken
URL:https://www.ff-inzersdorf.at/veranstaltungen/8-traisentalcup/
LOCATION:Niederösterreich
CATEGORIES:Traisentalcup
END:VEVENT
BEGIN:VEVENT
DTSTART;TZID=Europe/Vienna:20230609T160000
DTEND;TZID=Europe/Vienna:20230611T160000
DTSTAMP:20260424T140617
CREATED:20220914T193041Z
LAST-MODIFIED:20230423T192809Z
UID:17595-1686326400-1686499200@www.ff-inzersdorf.at
SUMMARY:Feuerwehrfest 2023
DESCRIPTION:Auf Facebook teilen (Wird in neuem Fenster geöffnet)\n				Facebook\n			\n				Auf X teilen (Wird in neuem Fenster geöffnet)\n				X\n			\n				Auf WhatsApp teilen (Wird in neuem Fenster geöffnet)\n				WhatsApp\n			\n				Einen Link per E-Mail an einen Freund senden (Wird in neuem Fenster geöffnet)\n				E-Mail\n			\n				Drucken (Wird in neuem Fenster geöffnet)\n				Drucken
URL:https://www.ff-inzersdorf.at/veranstaltungen/feuerwehrfest-2023/
LOCATION:Feuerwehrhaus Inzersdorf\, Florianigasse 1\, Inzersdorf\, 3131\, Österreich
CATEGORIES:Fest
END:VEVENT
BEGIN:VEVENT
DTSTART;TZID=Europe/Vienna:20230128T203000
DTEND;TZID=Europe/Vienna:20230129T020000
DTSTAMP:20260424T140617
CREATED:20220914T192943Z
LAST-MODIFIED:20230114T212809Z
UID:17593-1674937800-1674957600@www.ff-inzersdorf.at
SUMMARY:Feuerwehrball 2023
DESCRIPTION:Auf Facebook teilen (Wird in neuem Fenster geöffnet)\n				Facebook\n			\n				Auf X teilen (Wird in neuem Fenster geöffnet)\n				X\n			\n				Auf WhatsApp teilen (Wird in neuem Fenster geöffnet)\n				WhatsApp\n			\n				Einen Link per E-Mail an einen Freund senden (Wird in neuem Fenster geöffnet)\n				E-Mail\n			\n				Drucken (Wird in neuem Fenster geöffnet)\n				Drucken
URL:https://www.ff-inzersdorf.at/veranstaltungen/feuerwehrball-2023/
LOCATION:Mehrzweckhalle Inzersdorf\, Mehrzweckhalle Inzersdorf\, Dorfstraße 20\, Inzersdorf ob der Traisen\, Niederösterreich\, 3131\, Österreich
CATEGORIES:Ball
END:VEVENT
BEGIN:VEVENT
DTSTART;TZID=Europe/Vienna:20221002T090000
DTEND;TZID=Europe/Vienna:20221002T120000
DTSTAMP:20260424T140617
CREATED:20220914T192455Z
LAST-MODIFIED:20220914T192455Z
UID:17591-1664701200-1664712000@www.ff-inzersdorf.at
SUMMARY:14. Baby- und Kinderflohmarkt
DESCRIPTION:Auf Facebook teilen (Wird in neuem Fenster geöffnet)\n				Facebook\n			\n				Auf X teilen (Wird in neuem Fenster geöffnet)\n				X\n			\n				Auf WhatsApp teilen (Wird in neuem Fenster geöffnet)\n				WhatsApp\n			\n				Einen Link per E-Mail an einen Freund senden (Wird in neuem Fenster geöffnet)\n				E-Mail\n			\n				Drucken (Wird in neuem Fenster geöffnet)\n				Drucken
URL:https://www.ff-inzersdorf.at/veranstaltungen/14-baby-und-kinderflohmarkt/
LOCATION:Feuerwehrhaus Inzersdorf\, Florianigasse 1\, Inzersdorf\, 3131\, Österreich
CATEGORIES:Flohmarkt
ATTACH;FMTTYPE=image/png:https://www.ff-inzersdorf.at/wp-content/uploads/2022/09/BabyundKinderFlohmarkt.png
END:VEVENT
BEGIN:VEVENT
DTSTART;TZID=Europe/Vienna:20220610T170000
DTEND;TZID=Europe/Vienna:20220612T160000
DTSTAMP:20260424T140617
CREATED:20220310T180530Z
LAST-MODIFIED:20220607T083231Z
UID:16770-1654880400-1655049600@www.ff-inzersdorf.at
SUMMARY:Feuerwehrfest und 7. Traisentalcup
DESCRIPTION:Freitag 10. Juni ab 17:00 Uhr:\nStart des 7. Traisentalcups um 17:30Uhr am Sportplatz Inzersdorf\n20:30 Musik mit den Live Brothers 4!\n\nSamstag 11. Juni ab 10:00 Uhr:\nSensiorennachmittag 14:00 Uhr\nOldtimertreffen 15:00 Uhr\nMusik mit den MostLandStürmer ab 20:30 Uhr\n\nSonntag 12. Juni ab 10:00 Uhr:\nFrühshoppen mit der TK Inzersdorf-Getzersdorf ab 10:30\nSchlussverlosung um 14:00 Uhr\nFestbetrieb endet um 16:00 Uhr\n\n				Auf Facebook teilen (Wird in neuem Fenster geöffnet)\n				Facebook\n			\n				Auf X teilen (Wird in neuem Fenster geöffnet)\n				X\n			\n				Auf WhatsApp teilen (Wird in neuem Fenster geöffnet)\n				WhatsApp\n			\n				Einen Link per E-Mail an einen Freund senden (Wird in neuem Fenster geöffnet)\n				E-Mail\n			\n				Drucken (Wird in neuem Fenster geöffnet)\n				Drucken
URL:https://www.ff-inzersdorf.at/veranstaltungen/feuerwehrfest-und-7-traisentalcup/
LOCATION:Feuerwehrhaus Inzersdorf\, Florianigasse 1\, Inzersdorf\, 3131\, Österreich
CATEGORIES:Fest,Traisentalcup
END:VEVENT
BEGIN:VEVENT
DTSTART;TZID=Europe/Vienna:20220430T000000
DTEND;TZID=Europe/Vienna:20220430T000000
DTSTAMP:20260424T140617
CREATED:20220310T180131Z
LAST-MODIFIED:20220310T180131Z
UID:16768-1651276800-1651276800@www.ff-inzersdorf.at
SUMMARY:Maibaumaufstellen
DESCRIPTION:Auf Facebook teilen (Wird in neuem Fenster geöffnet)\n				Facebook\n			\n				Auf X teilen (Wird in neuem Fenster geöffnet)\n				X\n			\n				Auf WhatsApp teilen (Wird in neuem Fenster geöffnet)\n				WhatsApp\n			\n				Einen Link per E-Mail an einen Freund senden (Wird in neuem Fenster geöffnet)\n				E-Mail\n			\n				Drucken (Wird in neuem Fenster geöffnet)\n				Drucken
URL:https://www.ff-inzersdorf.at/veranstaltungen/maibaumaufstellen/
LOCATION:Feuerwehrhaus Inzersdorf\, Florianigasse 1\, Inzersdorf\, 3131\, Österreich
CATEGORIES:Maibaum
END:VEVENT
BEGIN:VEVENT
DTSTART;TZID=Europe/Vienna:20200125T190000
DTEND;TZID=Europe/Vienna:20200126T030000
DTSTAMP:20260424T140617
CREATED:20200120T173031Z
LAST-MODIFIED:20200120T173142Z
UID:15745-1579978800-1580007600@www.ff-inzersdorf.at
SUMMARY:Feuerwehrball
DESCRIPTION:Feuerwehrball in der Mehrzweckhalle d. Gemeinde Inzersdorf \nMusik: The Dreamers \nCatering: K&K Anzenberg \n\n				Auf Facebook teilen (Wird in neuem Fenster geöffnet)\n				Facebook\n			\n				Auf X teilen (Wird in neuem Fenster geöffnet)\n				X\n			\n				Auf WhatsApp teilen (Wird in neuem Fenster geöffnet)\n				WhatsApp\n			\n				Einen Link per E-Mail an einen Freund senden (Wird in neuem Fenster geöffnet)\n				E-Mail\n			\n				Drucken (Wird in neuem Fenster geöffnet)\n				Drucken
URL:https://www.ff-inzersdorf.at/veranstaltungen/feuerwehrball/
LOCATION:Mehrzweckhalle Inzersdorf\, Mehrzweckhalle Inzersdorf\, Dorfstraße 20\, Inzersdorf ob der Traisen\, Niederösterreich\, 3131\, Österreich
CATEGORIES:Ball
END:VEVENT
BEGIN:VEVENT
DTSTART;TZID=Europe/Vienna:20190614T173000
DTEND;TZID=Europe/Vienna:20190614T213000
DTSTAMP:20260424T140617
CREATED:20190130T190131Z
LAST-MODIFIED:20190130T190131Z
UID:14709-1560533400-1560547800@www.ff-inzersdorf.at
SUMMARY:6. Traisentalcup
DESCRIPTION:Alle Infos: https://www.ff-inzersdorf.at/traisental-cup/ \nAnmeldungen ab sofort bei Bernhard Neuchrist unter 0676/514 60 53 oder per E-Mail über bernhard.neuchrist@gmx.at. \n\n				Auf Facebook teilen (Wird in neuem Fenster geöffnet)\n				Facebook\n			\n				Auf X teilen (Wird in neuem Fenster geöffnet)\n				X\n			\n				Auf WhatsApp teilen (Wird in neuem Fenster geöffnet)\n				WhatsApp\n			\n				Einen Link per E-Mail an einen Freund senden (Wird in neuem Fenster geöffnet)\n				E-Mail\n			\n				Drucken (Wird in neuem Fenster geöffnet)\n				Drucken
URL:https://www.ff-inzersdorf.at/veranstaltungen/6-traisentalcup/
LOCATION:Niederösterreich
CATEGORIES:Bewerb
END:VEVENT
BEGIN:VEVENT
DTSTART;TZID=Europe/Vienna:20190614T170000
DTEND;TZID=Europe/Vienna:20190616T160000
DTSTAMP:20260424T140617
CREATED:20190130T190839Z
LAST-MODIFIED:20190506T201615Z
UID:14711-1560531600-1560700800@www.ff-inzersdorf.at
SUMMARY:Feuerwehrfest
DESCRIPTION:Freitag \nAb 17:00 Uhr: Festbetrieb\n17:30 Uhr: 6. Traisentalcup der Wettkampfgruppen am Sportplatz\n20:30 Uhr: Musik mit „The Dreamers“ \n\nSamstag \nAb 10:00 Uhr: Festbetrieb\n14:00 Uhr: Seniorennachmittag Mehlspeise oder Kaffee GRATIS!\n15:00 Uhr: Oldtimerschau\n20:30 Uhr: Musik mit „Die Oidmodischen Hund“ \n\nSonntag \nAb 10:00 Uhr: Festbetrieb & Frühshoppen mit der TK Inzersdorf-Getzersdorf\n14:00 Uhr: Schlussverlosung\nFestbetrieb bis 16:00 Uhr \nDer Reinerlös dient zur Finanzierung von Einsatzbekleidung \n  \nPlakat als PDF: PlakatTraisentalcup_2019_ansicht_v3 \n\n				Auf Facebook teilen (Wird in neuem Fenster geöffnet)\n				Facebook\n			\n				Auf X teilen (Wird in neuem Fenster geöffnet)\n				X\n			\n				Auf WhatsApp teilen (Wird in neuem Fenster geöffnet)\n				WhatsApp\n			\n				Einen Link per E-Mail an einen Freund senden (Wird in neuem Fenster geöffnet)\n				E-Mail\n			\n				Drucken (Wird in neuem Fenster geöffnet)\n				Drucken
URL:https://www.ff-inzersdorf.at/veranstaltungen/feuerwehrfest/
LOCATION:Niederösterreich
CATEGORIES:Fest
END:VEVENT
BEGIN:VEVENT
DTSTART;VALUE=DATE:20190505
DTEND;VALUE=DATE:20190506
DTSTAMP:20260424T140617
CREATED:20190130T191612Z
LAST-MODIFIED:20190424T172923Z
UID:14713-1557014400-1557100799@www.ff-inzersdorf.at
SUMMARY:125 Jahre FF-Inzersdorf
DESCRIPTION:Die FF Inzersdorf ob der Traisen lädt alle Gemeindebürger zum 125-jährigen Bestehen ins Feuerwehrhaus Inzersdorf! \n\n8:30 Uhr – Empfang der Ehrengäste im Feuerwehrhaus \n9:00 Uhr – Florianimesse mit Fahrzeugsegnung des neuen MTF \n\n\nVerpflegung/Buffet und Festbetrieb beim Feuerwehrhaus\nMusikalische Umrahmung durch die Trachtenmusikkappelle Inzersdorf-Getzersdorf\n\n\n				Auf Facebook teilen (Wird in neuem Fenster geöffnet)\n				Facebook\n			\n				Auf X teilen (Wird in neuem Fenster geöffnet)\n				X\n			\n				Auf WhatsApp teilen (Wird in neuem Fenster geöffnet)\n				WhatsApp\n			\n				Einen Link per E-Mail an einen Freund senden (Wird in neuem Fenster geöffnet)\n				E-Mail\n			\n				Drucken (Wird in neuem Fenster geöffnet)\n				Drucken
URL:https://www.ff-inzersdorf.at/veranstaltungen/125-jahre-ff-inzersdorf/
LOCATION:Niederösterreich
CATEGORIES:Fest
END:VEVENT
BEGIN:VEVENT
DTSTART;TZID=Europe/Vienna:20190430T180000
DTEND;TZID=Europe/Vienna:20190430T210000
DTSTAMP:20260424T140617
CREATED:20190423T175201Z
LAST-MODIFIED:20190424T172720Z
UID:14857-1556647200-1556658000@www.ff-inzersdorf.at
SUMMARY:Maibaum aufstellen
DESCRIPTION:Ab 18:00 Uhr – Festbetrieb beim Feuerwehrhaus Inzersdorf \n~19:00 Uhr – Maibaum aufstellen \n              \n\n				Auf Facebook teilen (Wird in neuem Fenster geöffnet)\n				Facebook\n			\n				Auf X teilen (Wird in neuem Fenster geöffnet)\n				X\n			\n				Auf WhatsApp teilen (Wird in neuem Fenster geöffnet)\n				WhatsApp\n			\n				Einen Link per E-Mail an einen Freund senden (Wird in neuem Fenster geöffnet)\n				E-Mail\n			\n				Drucken (Wird in neuem Fenster geöffnet)\n				Drucken
URL:https://www.ff-inzersdorf.at/veranstaltungen/maibaum-aufstellen/
LOCATION:Feuerwehrhaus Inzersdorf\, Florianigasse 1\, Inzersdorf\, 3131\, Österreich
CATEGORIES:Maibaum
END:VEVENT
BEGIN:VEVENT
DTSTART;TZID=Europe/Vienna:20190324T090000
DTEND;TZID=Europe/Vienna:20190324T120000
DTSTAMP:20260424T140617
CREATED:20190223T125607Z
LAST-MODIFIED:20190223T125607Z
UID:14732-1553418000-1553428800@www.ff-inzersdorf.at
SUMMARY:12. Baby- und Kinderflohmarkt
DESCRIPTION:Anmeldungen bei: \n\nKerstin Wieser: 0660 / 6278737 oder kerstinmatthias@gmx.at\nKatharina Höchtl-Frech: 0699 / 10029958 oder frech.hoechtl@aon.at\n\nStandgebühr: 6€                 Kleiderständer 2€ \n  \n(Einnahmen der Standgebühr werden zur Gänze an die FF Inzersdorf gespendet) \n\n				Auf Facebook teilen (Wird in neuem Fenster geöffnet)\n				Facebook\n			\n				Auf X teilen (Wird in neuem Fenster geöffnet)\n				X\n			\n				Auf WhatsApp teilen (Wird in neuem Fenster geöffnet)\n				WhatsApp\n			\n				Einen Link per E-Mail an einen Freund senden (Wird in neuem Fenster geöffnet)\n				E-Mail\n			\n				Drucken (Wird in neuem Fenster geöffnet)\n				Drucken
URL:https://www.ff-inzersdorf.at/veranstaltungen/12-baby-und-kinderflohmarkt/
LOCATION:Feuerwehrhaus Inzersdorf\, Florianigasse 1\, Inzersdorf\, 3131\, Österreich
CATEGORIES:Flohmarkt
END:VEVENT
BEGIN:VEVENT
DTSTART;TZID=Europe/Vienna:20190126T203000
DTEND;TZID=Europe/Vienna:20190127T020000
DTSTAMP:20260424T140617
CREATED:20181222T130854Z
LAST-MODIFIED:20181224T140034Z
UID:14575-1548534600-1548554400@www.ff-inzersdorf.at
SUMMARY:Feuerwehrball
DESCRIPTION:26. Jänner 2017 in der Mehrzweckhalle Inzersdorf\n\n\n \n\n\nKartenvorverkauf: Raiffeisenbank Inzersdorf und K&K Anzenberg\n\n\nTischreservierung ab 19. Jänner 2019 unter der Nummer 0676/5146053\n\n\n \n\n\nWir freuen uns auf Ihr Kommen.\n\n\nDie Kameraden der FF-Inzersdorf ob der Traisen.\n\n              \n\n				Auf Facebook teilen (Wird in neuem Fenster geöffnet)\n				Facebook\n			\n				Auf X teilen (Wird in neuem Fenster geöffnet)\n				X\n			\n				Auf WhatsApp teilen (Wird in neuem Fenster geöffnet)\n				WhatsApp\n			\n				Einen Link per E-Mail an einen Freund senden (Wird in neuem Fenster geöffnet)\n				E-Mail\n			\n				Drucken (Wird in neuem Fenster geöffnet)\n				Drucken
URL:https://www.ff-inzersdorf.at/veranstaltungen/feuerwehrball-2019/
LOCATION:Mehrzweckhalle Inzersdorf\, Mehrzweckhalle Inzersdorf\, Dorfstraße 20\, Inzersdorf ob der Traisen\, Niederösterreich\, 3131\, Österreich
CATEGORIES:Ball
END:VEVENT
BEGIN:VEVENT
DTSTART;TZID=Europe/Vienna:20190119T143000
DTEND;TZID=Europe/Vienna:20190119T180000
DTSTAMP:20260424T140617
CREATED:20190105T180945Z
LAST-MODIFIED:20190105T180945Z
UID:14589-1547908200-1547920800@www.ff-inzersdorf.at
SUMMARY:124. Mitgliederversammlung
DESCRIPTION:Im Gasthaus Stelzhammer \nTagesordnung: Beginn um 15:00 \n\n				Auf Facebook teilen (Wird in neuem Fenster geöffnet)\n				Facebook\n			\n				Auf X teilen (Wird in neuem Fenster geöffnet)\n				X\n			\n				Auf WhatsApp teilen (Wird in neuem Fenster geöffnet)\n				WhatsApp\n			\n				Einen Link per E-Mail an einen Freund senden (Wird in neuem Fenster geöffnet)\n				E-Mail\n			\n				Drucken (Wird in neuem Fenster geöffnet)\n				Drucken
URL:https://www.ff-inzersdorf.at/veranstaltungen/124-mitgliederversammlung/
LOCATION:Gasthaus Stelzhammer
CATEGORIES:Versammlung
END:VEVENT
END:VCALENDAR